BEGIN:VCALENDAR
VERSION:2.0
CALSCALE:GREGORIAN
PRODID:-//Diputació de Barcelona//DibaCMS//EN
BEGIN:VEVENT
UID:10218
DTSTAMP:20260422T024424
DTSTART:20231126T120000
DTEND:20231126T140000
SUMMARY:Fira del Bosc: Tallers a la plaça de la Vila
LOCATION:
METHOD:PUBLISH
X-WR-CALNAME:vallgorguina@vallgorguina.cat
X-WR-TIMEZONE:Europe/Madrid
DESCRIPTION:
URI:https://www.vallgorguina.cat/actualitat/agenda/fira-del-bosc-tallers-a-la-placa-de-la-vila.html
CLASS:PUBLIC
END:VEVENT
END:VCALENDAR
