BEGIN:VCALENDAR
VERSION:2.0
CALSCALE:GREGORIAN
PRODID:-//Diputació de Barcelona//DibaCMS//EN
BEGIN:VEVENT
UID:10219
DTSTAMP:20260422T070104
DTSTART:20231125T100000
DTEND:20231125T140000
SUMMARY:Tallers Fira del Bosc: Espai Jocs
LOCATION:
METHOD:PUBLISH
X-WR-CALNAME:vallgorguina@vallgorguina.cat
X-WR-TIMEZONE:Europe/Madrid
DESCRIPTION:
URI:https://www.vallgorguina.cat/actualitat/agenda/tallers-fira-del-bosc-espai-jocs.html
CLASS:PUBLIC
END:VEVENT
END:VCALENDAR
