BEGIN:VCALENDAR
VERSION:2.0
CALSCALE:GREGORIAN
PRODID:-//Diputació de Barcelona//DibaCMS//EN
BEGIN:VEVENT
UID:10220
DTSTAMP:20260422T002633
DTSTART:20231126T100000
DTEND:20231126T140000
SUMMARY:Tallers Fira del Bosc: Espai Jocs
LOCATION:
METHOD:PUBLISH
X-WR-CALNAME:vallgorguina@vallgorguina.cat
X-WR-TIMEZONE:Europe/Madrid
DESCRIPTION:
URI:https://www.vallgorguina.cat/actualitat/agenda/10220-tallers-fira-del-bosc-espai-jocs.html
CLASS:PUBLIC
END:VEVENT
END:VCALENDAR
