BEGIN:VCALENDAR
VERSION:2.0
CALSCALE:GREGORIAN
PRODID:-//Diputació de Barcelona//DibaCMS//EN
BEGIN:VEVENT
UID:10228
DTSTAMP:20260422T045307
DTSTART:20231205T170000
DTEND:20231205T180000
SUMMARY:Espectacle de Contes per a adults de Joan de Boer!
LOCATION:
METHOD:PUBLISH
X-WR-CALNAME:vallgorguina@vallgorguina.cat
X-WR-TIMEZONE:Europe/Madrid
DESCRIPTION:
URI:https://www.vallgorguina.cat/actualitat/agenda/espectacle-de-contes-per-a-adults-de-joan-deboer.html
CLASS:PUBLIC
END:VEVENT
END:VCALENDAR
