BEGIN:VCALENDAR
VERSION:2.0
CALSCALE:GREGORIAN
PRODID:-//Diputació de Barcelona//DibaCMS//EN
BEGIN:VEVENT
UID:10232
DTSTAMP:20260422T001348
DTSTART:20231214T150000
DTEND:20231214T200000
SUMMARY:Campanya «Aquí no llencem res!»
LOCATION:
METHOD:PUBLISH
X-WR-CALNAME:vallgorguina@vallgorguina.cat
X-WR-TIMEZONE:Europe/Madrid
DESCRIPTION:
URI:https://www.vallgorguina.cat/actualitat/agenda/10232-campanya-aqui-no-llencem-res.html
CLASS:PUBLIC
END:VEVENT
END:VCALENDAR
