BEGIN:VCALENDAR
VERSION:2.0
CALSCALE:GREGORIAN
PRODID:-//Diputació de Barcelona//DibaCMS//EN
BEGIN:VEVENT
UID:10239
DTSTAMP:20260421T163030
DTSTART:20231221T190000
DTEND:20231221T190000
SUMMARY:👑Comissió de festes: Cavalcada de Reis👑
LOCATION:
METHOD:PUBLISH
X-WR-CALNAME:vallgorguina@vallgorguina.cat
X-WR-TIMEZONE:Europe/Madrid
DESCRIPTION:
URI:https://www.vallgorguina.cat/actualitat/agenda/comissio-de-festes-cavalcada-de-reis.html
CLASS:PUBLIC
END:VEVENT
END:VCALENDAR
