BEGIN:VCALENDAR
VERSION:2.0
CALSCALE:GREGORIAN
PRODID:-//Diputació de Barcelona//DibaCMS//EN
BEGIN:VEVENT
UID:10242
DTSTAMP:20260421T181837
DTSTART:20231223T180000
DTEND:20231223T180000
SUMMARY:✨Nadal al Caliu ✨
LOCATION:Plaça de la Vila, 4, baixos 08471 Vallgorguina
METHOD:PUBLISH
X-WR-CALNAME:vallgorguina@vallgorguina.cat
X-WR-TIMEZONE:Europe/Madrid
DESCRIPTION:
URI:https://www.vallgorguina.cat/actualitat/agenda/nadal-al-caliu-.html
CLASS:PUBLIC
END:VEVENT
END:VCALENDAR
