BEGIN:VCALENDAR
VERSION:2.0
CALSCALE:GREGORIAN
PRODID:-//Diputació de Barcelona//DibaCMS//EN
BEGIN:VEVENT
UID:10248
DTSTAMP:20260422T024534
DTSTART:20231230T170000
DTEND:20231231T190000
SUMMARY:Carta al Patge Reial
LOCATION:
METHOD:PUBLISH
X-WR-CALNAME:vallgorguina@vallgorguina.cat
X-WR-TIMEZONE:Europe/Madrid
DESCRIPTION:
URI:https://www.vallgorguina.cat/actualitat/agenda/carta-al-patge-reial.html
CLASS:PUBLIC
END:VEVENT
END:VCALENDAR
