BEGIN:VCALENDAR
VERSION:2.0
CALSCALE:GREGORIAN
PRODID:-//Diputació de Barcelona//DibaCMS//EN
BEGIN:VEVENT
UID:10251
DTSTAMP:20260421T143111
DTSTART:20240206T070000
DTEND:20240206T130000
SUMMARY:Recollida voluminosos gener i febrer 2024  
LOCATION:
METHOD:PUBLISH
X-WR-CALNAME:vallgorguina@vallgorguina.cat
X-WR-TIMEZONE:Europe/Madrid
DESCRIPTION:
URI:https://www.vallgorguina.cat/actualitat/agenda/10251-recollida-voluminosos-gener-i-febrer-2024-.html
CLASS:PUBLIC
END:VEVENT
END:VCALENDAR
