BEGIN:VCALENDAR
VERSION:2.0
CALSCALE:GREGORIAN
PRODID:-//Diputació de Barcelona//DibaCMS//EN
BEGIN:VEVENT
UID:10255
DTSTAMP:20260421T111116
DTSTART:20240212T070000
DTEND:20240212T130000
SUMMARY:Recollida fracció vegetal 1r trimestre 2023 
LOCATION:
METHOD:PUBLISH
X-WR-CALNAME:vallgorguina@vallgorguina.cat
X-WR-TIMEZONE:Europe/Madrid
DESCRIPTION:
URI:https://www.vallgorguina.cat/actualitat/agenda/10255-recollida-fraccio-vegetal-1r-trimestre-2023-.html
CLASS:PUBLIC
END:VEVENT
END:VCALENDAR
