BEGIN:VCALENDAR
VERSION:2.0
CALSCALE:GREGORIAN
PRODID:-//Diputació de Barcelona//DibaCMS//EN
BEGIN:VEVENT
UID:10258
DTSTAMP:20260421T221306
DTSTART:20231231T003000
DTEND:20231231T053000
SUMMARY:Cap d'any 2024
LOCATION:La Fàbrica 
METHOD:PUBLISH
X-WR-CALNAME:vallgorguina@vallgorguina.cat
X-WR-TIMEZONE:Europe/Madrid
DESCRIPTION:

Entrada gratuïta i servei de barra

URI:https://www.vallgorguina.cat/actualitat/agenda/cap-dany-2024.html
CLASS:PUBLIC
END:VEVENT
END:VCALENDAR
