BEGIN:VCALENDAR
VERSION:2.0
CALSCALE:GREGORIAN
PRODID:-//Diputació de Barcelona//DibaCMS//EN
BEGIN:VEVENT
UID:10260
DTSTAMP:20260421T143242
DTSTART:20240120T100000
DTEND:20240120T140000
SUMMARY:Deixalleria mòbil gener 2024 - Baronia i Canadà Parc 
LOCATION:
METHOD:PUBLISH
X-WR-CALNAME:vallgorguina@vallgorguina.cat
X-WR-TIMEZONE:Europe/Madrid
DESCRIPTION:
URI:https://www.vallgorguina.cat/actualitat/agenda/deixalleria-mobil-gener-2024-baronia-i-canada-parc-.html
CLASS:PUBLIC
END:VEVENT
END:VCALENDAR
