BEGIN:VCALENDAR
VERSION:2.0
CALSCALE:GREGORIAN
PRODID:-//Diputació de Barcelona//DibaCMS//EN
BEGIN:VEVENT
UID:10263
DTSTAMP:20260421T031858
DTSTART:20240427T100000
DTEND:20240427T120000
SUMMARY:Deixalleria mòbil abril 2024 - Nucli 
LOCATION:
METHOD:PUBLISH
X-WR-CALNAME:vallgorguina@vallgorguina.cat
X-WR-TIMEZONE:Europe/Madrid
DESCRIPTION:
URI:https://www.vallgorguina.cat/actualitat/agenda/deixalleria-mobil-abril-2024-nucli-.html
CLASS:PUBLIC
END:VEVENT
END:VCALENDAR
