BEGIN:VCALENDAR
VERSION:2.0
CALSCALE:GREGORIAN
PRODID:-//Diputació de Barcelona//DibaCMS//EN
BEGIN:VEVENT
UID:10306
DTSTAMP:20260421T073255
DTSTART:20240326T153000
DTEND:20240326T183000
SUMMARY:Bibliobús cancel·lat per avaria
LOCATION:Plaça Mossèn Narcís Saguer 08471 Vallgorguina
METHOD:PUBLISH
X-WR-CALNAME:vallgorguina@vallgorguina.cat
X-WR-TIMEZONE:Europe/Madrid
DESCRIPTION:
URI:https://www.vallgorguina.cat/actualitat/agenda/bibliobus-cancellat-per-avaria.html
CLASS:PUBLIC
END:VEVENT
END:VCALENDAR
