BEGIN:VCALENDAR
VERSION:2.0
CALSCALE:GREGORIAN
PRODID:-//Diputació de Barcelona//DibaCMS//EN
BEGIN:VEVENT
UID:10308
DTSTAMP:20260421T071020
DTSTART:20240409T153000
DTEND:20240409T183000
SUMMARY:Bibliobús  
LOCATION:Plaça Mossèn Narcís Saguer 08471 Vallgorguina
METHOD:PUBLISH
X-WR-CALNAME:vallgorguina@vallgorguina.cat
X-WR-TIMEZONE:Europe/Madrid
DESCRIPTION:
URI:https://www.vallgorguina.cat/actualitat/agenda/10308-bibliobus-.html
CLASS:PUBLIC
END:VEVENT
END:VCALENDAR
