BEGIN:VCALENDAR
VERSION:2.0
CALSCALE:GREGORIAN
PRODID:-//Diputació de Barcelona//DibaCMS//EN
BEGIN:VEVENT
UID:10338
DTSTAMP:20260420T125621
DTSTART:20241217T153000
DTEND:20241217T183000
SUMMARY:Bibliobús  
LOCATION:Plaça Mossèn Narcís Saguer 08471 Vallgorguina
METHOD:PUBLISH
X-WR-CALNAME:vallgorguina@vallgorguina.cat
X-WR-TIMEZONE:Europe/Madrid
DESCRIPTION:
URI:https://www.vallgorguina.cat/actualitat/agenda/10338-bibliobus-.html
CLASS:PUBLIC
END:VEVENT
END:VCALENDAR
