BEGIN:VCALENDAR
VERSION:2.0
CALSCALE:GREGORIAN
PRODID:-//Diputació de Barcelona//DibaCMS//EN
BEGIN:VEVENT
UID:10339
DTSTAMP:20260421T222755
DTSTART:20240210T170000
DTEND:20240210T170000
SUMMARY:Carnestoltes 2024
LOCATION:
METHOD:PUBLISH
X-WR-CALNAME:vallgorguina@vallgorguina.cat
X-WR-TIMEZONE:Europe/Madrid
DESCRIPTION:
URI:https://www.vallgorguina.cat/actualitat/agenda/carnestoltes-2024.html
CLASS:PUBLIC
END:VEVENT
END:VCALENDAR
