BEGIN:VCALENDAR
VERSION:2.0
CALSCALE:GREGORIAN
PRODID:-//Diputació de Barcelona//DibaCMS//EN
BEGIN:VEVENT
UID:10342
DTSTAMP:20260423T122829
DTSTART:20240203T073000
DTEND:20240203T073000
SUMMARY:Raid Hípic Vallgorguina
LOCATION:
METHOD:PUBLISH
X-WR-CALNAME:vallgorguina@vallgorguina.cat
X-WR-TIMEZONE:Europe/Madrid
DESCRIPTION:
URI:https://www.vallgorguina.cat/actualitat/agenda/10342-raid-hipic-vallgorguina.html
CLASS:PUBLIC
END:VEVENT
END:VCALENDAR
