BEGIN:VCALENDAR
VERSION:2.0
CALSCALE:GREGORIAN
PRODID:-//Diputació de Barcelona//DibaCMS//EN
BEGIN:VEVENT
UID:10354
DTSTAMP:20260421T111225
DTSTART:20240210T230000
DTEND:20240211T023000
SUMMARY:Carnestoltes a la nit
LOCATION:
METHOD:PUBLISH
X-WR-CALNAME:vallgorguina@vallgorguina.cat
X-WR-TIMEZONE:Europe/Madrid
DESCRIPTION:
URI:https://www.vallgorguina.cat/actualitat/agenda/carnestoltes-a-la-nit.html
CLASS:PUBLIC
END:VEVENT
END:VCALENDAR
