BEGIN:VCALENDAR
VERSION:2.0
CALSCALE:GREGORIAN
PRODID:-//Diputació de Barcelona//DibaCMS//EN
BEGIN:VEVENT
UID:10355
DTSTAMP:20260421T181617
DTSTART:20240221T143000
DTEND:20240221T161500
SUMMARY:Jornada de portes obertes - Escola de Vallgorguina
LOCATION:
METHOD:PUBLISH
X-WR-CALNAME:vallgorguina@vallgorguina.cat
X-WR-TIMEZONE:Europe/Madrid
DESCRIPTION:
URI:https://www.vallgorguina.cat/actualitat/agenda/jornada-de-portes-obertes-escola-de-vallgorguina.html
CLASS:PUBLIC
END:VEVENT
END:VCALENDAR
