BEGIN:VCALENDAR
VERSION:2.0
CALSCALE:GREGORIAN
PRODID:-//Diputació de Barcelona//DibaCMS//EN
BEGIN:VEVENT
UID:10363
DTSTAMP:20260421T111045
DTSTART:20240217T163000
DTEND:20240217T183000
SUMMARY:Taula Rodona: Models de consum autogestionats i transició ecosocial
LOCATION:
METHOD:PUBLISH
X-WR-CALNAME:vallgorguina@vallgorguina.cat
X-WR-TIMEZONE:Europe/Madrid
DESCRIPTION:
URI:https://www.vallgorguina.cat/actualitat/agenda/taula-rodona-models-de-consum-autogestionats-i-transicio-ecosocial.html
CLASS:PUBLIC
END:VEVENT
END:VCALENDAR
