BEGIN:VCALENDAR
VERSION:2.0
CALSCALE:GREGORIAN
PRODID:-//Diputació de Barcelona//DibaCMS//EN
BEGIN:VEVENT
UID:10370
DTSTAMP:20260421T131628
DTSTART:20240221T193000
DTEND:20240221T203000
SUMMARY:Junta Govern Local 
LOCATION:
METHOD:PUBLISH
X-WR-CALNAME:vallgorguina@vallgorguina.cat
X-WR-TIMEZONE:Europe/Madrid
DESCRIPTION:Participació pública a distància, informa't en aquest enllaç

URI:https://www.vallgorguina.cat/actualitat/agenda/junta-govern-local-.html
CLASS:PUBLIC
END:VEVENT
END:VCALENDAR
