BEGIN:VCALENDAR
VERSION:2.0
CALSCALE:GREGORIAN
PRODID:-//Diputació de Barcelona//DibaCMS//EN
BEGIN:VEVENT
UID:10377
DTSTAMP:20260421T052149
DTSTART:20240402T070000
DTEND:20240402T130000
SUMMARY:Recollida voluminosos març i abril 2024  
LOCATION:
METHOD:PUBLISH
X-WR-CALNAME:vallgorguina@vallgorguina.cat
X-WR-TIMEZONE:Europe/Madrid
DESCRIPTION:
URI:https://www.vallgorguina.cat/actualitat/agenda/10377-recollida-voluminosos-marc-i-abril-2024-.html
CLASS:PUBLIC
END:VEVENT
END:VCALENDAR
