BEGIN:VCALENDAR
VERSION:2.0
CALSCALE:GREGORIAN
PRODID:-//Diputació de Barcelona//DibaCMS//EN
BEGIN:VEVENT
UID:10384
DTSTAMP:20260421T051018
DTSTART:20240428T100000
DTEND:20240428T130000
SUMMARY:De Vallgorguina a Olzinelles. Passejada guiada
LOCATION:
METHOD:PUBLISH
X-WR-CALNAME:vallgorguina@vallgorguina.cat
X-WR-TIMEZONE:Europe/Madrid
DESCRIPTION:
URI:https://www.vallgorguina.cat/actualitat/agenda/de-vallgorguina-a-olzinelles-passejada-guiada.html
CLASS:PUBLIC
END:VEVENT
END:VCALENDAR
