BEGIN:VCALENDAR
VERSION:2.0
CALSCALE:GREGORIAN
PRODID:-//Diputació de Barcelona//DibaCMS//EN
BEGIN:VEVENT
UID:10389
DTSTAMP:20260421T111139
DTSTART:20240228T000000
DTEND:20240228T000000
SUMMARY:Passa-busos
LOCATION:
METHOD:PUBLISH
X-WR-CALNAME:vallgorguina@vallgorguina.cat
X-WR-TIMEZONE:Europe/Madrid
DESCRIPTION:
URI:https://www.vallgorguina.cat/actualitat/agenda/passa-busos.html
CLASS:PUBLIC
END:VEVENT
END:VCALENDAR
