BEGIN:VCALENDAR
VERSION:2.0
CALSCALE:GREGORIAN
PRODID:-//Diputació de Barcelona//DibaCMS//EN
BEGIN:VEVENT
UID:10390
DTSTAMP:20260421T072554
DTSTART:20240321T100000
DTEND:20240321T130000
SUMMARY:Servei d'Orientació Juvenil de Vallgorguina
LOCATION:
METHOD:PUBLISH
X-WR-CALNAME:vallgorguina@vallgorguina.cat
X-WR-TIMEZONE:Europe/Madrid
DESCRIPTION:
URI:https://www.vallgorguina.cat/actualitat/agenda/servei-dorientacio-juvenil-de-vallgorguina.html
CLASS:PUBLIC
END:VEVENT
END:VCALENDAR
