BEGIN:VCALENDAR
VERSION:2.0
CALSCALE:GREGORIAN
PRODID:-//Diputació de Barcelona//DibaCMS//EN
BEGIN:VEVENT
UID:10392
DTSTAMP:20260421T090907
DTSTART:20240308T000000
DTEND:20240308T000000
SUMMARY:8M - Programa d'activitats 2024
LOCATION:Carrer de l'Ésglésia, 13 (darrere del Casal del poble) 08471 Vallgorguina
METHOD:PUBLISH
X-WR-CALNAME:vallgorguina@vallgorguina.cat
X-WR-TIMEZONE:Europe/Madrid
DESCRIPTION:
URI:https://www.vallgorguina.cat/actualitat/agenda/8m-programa-dactivitats-2024.html
CLASS:PUBLIC
END:VEVENT
END:VCALENDAR
