BEGIN:VCALENDAR
VERSION:2.0
CALSCALE:GREGORIAN
PRODID:-//Diputació de Barcelona//DibaCMS//EN
BEGIN:VEVENT
UID:10393
DTSTAMP:20260421T072743
DTSTART:20240308T120000
DTEND:20240308T120000
SUMMARY:8M - Lectura del manifest
LOCATION:
METHOD:PUBLISH
X-WR-CALNAME:vallgorguina@vallgorguina.cat
X-WR-TIMEZONE:Europe/Madrid
DESCRIPTION:
URI:https://www.vallgorguina.cat/actualitat/agenda/8m-lectura-del-manifest.html
CLASS:PUBLIC
END:VEVENT
END:VCALENDAR
