BEGIN:VCALENDAR
VERSION:2.0
CALSCALE:GREGORIAN
PRODID:-//Diputació de Barcelona//DibaCMS//EN
BEGIN:VEVENT
UID:10394
DTSTAMP:20260421T073027
DTSTART:20240308T174500
DTEND:20240308T184500
SUMMARY:8M- Xerrada-Taller: “Consciència del sòl pelvià” 
LOCATION:Carrer de l'Ésglésia, 13 (darrere del Casal del poble) 08471 Vallgorguina
METHOD:PUBLISH
X-WR-CALNAME:vallgorguina@vallgorguina.cat
X-WR-TIMEZONE:Europe/Madrid
DESCRIPTION:
URI:https://www.vallgorguina.cat/actualitat/agenda/8m-xerrada-taller-consciencia-del-sol-pelvia-.html
CLASS:PUBLIC
END:VEVENT
END:VCALENDAR
