BEGIN:VCALENDAR
VERSION:2.0
CALSCALE:GREGORIAN
PRODID:-//Diputació de Barcelona//DibaCMS//EN
BEGIN:VEVENT
UID:10396
DTSTAMP:20260421T073320
DTSTART:20240308T190000
DTEND:20240308T190000
SUMMARY:8M- Il·luminació de la façana de l’Ajuntament de Vallgorguina
LOCATION:
METHOD:PUBLISH
X-WR-CALNAME:vallgorguina@vallgorguina.cat
X-WR-TIMEZONE:Europe/Madrid
DESCRIPTION:
URI:https://www.vallgorguina.cat/actualitat/agenda/8m-illuminacio-de-la-facana-de-lajuntament-de-vallgorguina.html
CLASS:PUBLIC
END:VEVENT
END:VCALENDAR
