BEGIN:VCALENDAR
VERSION:2.0
CALSCALE:GREGORIAN
PRODID:-//Diputació de Barcelona//DibaCMS//EN
BEGIN:VEVENT
UID:10397
DTSTAMP:20260421T090854
DTSTART:20240308T204500
DTEND:20240308T204500
SUMMARY:8M - Toc per a les persones assistents
LOCATION:
METHOD:PUBLISH
X-WR-CALNAME:vallgorguina@vallgorguina.cat
X-WR-TIMEZONE:Europe/Madrid
DESCRIPTION:
URI:https://www.vallgorguina.cat/actualitat/agenda/8m-toc-per-a-les-persones-assistents.html
CLASS:PUBLIC
END:VEVENT
END:VCALENDAR
