BEGIN:VCALENDAR
VERSION:2.0
CALSCALE:GREGORIAN
PRODID:-//Diputació de Barcelona//DibaCMS//EN
BEGIN:VEVENT
UID:10399
DTSTAMP:20260421T112747
DTSTART:20240319T170000
DTEND:20240319T170000
SUMMARY:Portes Obertes INS Reguissol - Batxillerat
LOCATION:
METHOD:PUBLISH
X-WR-CALNAME:vallgorguina@vallgorguina.cat
X-WR-TIMEZONE:Europe/Madrid
DESCRIPTION:
URI:https://www.vallgorguina.cat/actualitat/agenda/portes-obertes-ins-reguissol-batxillerat.html
CLASS:PUBLIC
END:VEVENT
END:VCALENDAR
