BEGIN:VCALENDAR
VERSION:2.0
CALSCALE:GREGORIAN
PRODID:-//Diputació de Barcelona//DibaCMS//EN
BEGIN:VEVENT
UID:10418
DTSTAMP:20260421T052404
DTSTART:20240401T083000
DTEND:20240401T083000
SUMMARY:Excursió al corredor
LOCATION:Plaça Mn Narcís Saguer 
METHOD:PUBLISH
X-WR-CALNAME:vallgorguina@vallgorguina.cat
X-WR-TIMEZONE:Europe/Madrid
DESCRIPTION:
URI:https://www.vallgorguina.cat/actualitat/agenda/10418-excursio-al-corredor.html
CLASS:PUBLIC
END:VEVENT
END:VCALENDAR
