BEGIN:VCALENDAR
VERSION:2.0
CALSCALE:GREGORIAN
PRODID:-//Diputació de Barcelona//DibaCMS//EN
BEGIN:VEVENT
UID:10420
DTSTAMP:20260421T090827
DTSTART:20240326T170000
DTEND:20240326T170000
SUMMARY:Tallers de bunyols i mones
LOCATION:Plaça de la Vila, 4, baixos 08471 Vallgorguina
METHOD:PUBLISH
X-WR-CALNAME:vallgorguina@vallgorguina.cat
X-WR-TIMEZONE:Europe/Madrid
DESCRIPTION:
URI:https://www.vallgorguina.cat/actualitat/agenda/tallers-de-bunyols-i-mones.html
CLASS:PUBLIC
END:VEVENT
END:VCALENDAR
