BEGIN:VCALENDAR
VERSION:2.0
CALSCALE:GREGORIAN
PRODID:-//Diputació de Barcelona//DibaCMS//EN
BEGIN:VEVENT
UID:10430
DTSTAMP:20260421T111226
DTSTART:20240328T180000
DTEND:20240328T200000
SUMMARY:Dijous Sant
LOCATION:Església Sant Andreu de Vallgorguina 
METHOD:PUBLISH
X-WR-CALNAME:vallgorguina@vallgorguina.cat
X-WR-TIMEZONE:Europe/Madrid
DESCRIPTION:18.00h. Sant sopar del Senyor i Hora Santa

URI:https://www.vallgorguina.cat/actualitat/agenda/dijous-sant.html
CLASS:PUBLIC
END:VEVENT
END:VCALENDAR
