BEGIN:VCALENDAR
VERSION:2.0
CALSCALE:GREGORIAN
PRODID:-//Diputació de Barcelona//DibaCMS//EN
BEGIN:VEVENT
UID:10431
DTSTAMP:20260421T091032
DTSTART:20240329T120000
DTEND:20240329T130000
SUMMARY:Divendres Sant
LOCATION:Església Sant Andreu de Vallgorguina 
METHOD:PUBLISH
X-WR-CALNAME:vallgorguina@vallgorguina.cat
X-WR-TIMEZONE:Europe/Madrid
DESCRIPTION:12.00h. Ofici de la passió del Senyor

URI:https://www.vallgorguina.cat/actualitat/agenda/divendres-sant.html
CLASS:PUBLIC
END:VEVENT
END:VCALENDAR
