BEGIN:VCALENDAR
VERSION:2.0
CALSCALE:GREGORIAN
PRODID:-//Diputació de Barcelona//DibaCMS//EN
BEGIN:VEVENT
UID:10432
DTSTAMP:20260421T052417
DTSTART:20240330T180000
DTEND:20240330T190000
SUMMARY:Vetlla Pasqual
LOCATION:Església Sant Andreu de Vallgorguina 
METHOD:PUBLISH
X-WR-CALNAME:vallgorguina@vallgorguina.cat
X-WR-TIMEZONE:Europe/Madrid
DESCRIPTION:18.00h. Vetlla Pasqual

URI:https://www.vallgorguina.cat/actualitat/agenda/vetlla-pasqual.html
CLASS:PUBLIC
END:VEVENT
END:VCALENDAR
