BEGIN:VCALENDAR
VERSION:2.0
CALSCALE:GREGORIAN
PRODID:-//Diputació de Barcelona//DibaCMS//EN
BEGIN:VEVENT
UID:10433
DTSTAMP:20260421T052111
DTSTART:20240331T103000
DTEND:20240331T113000
SUMMARY:Diumenge de Pasqua
LOCATION:Església Sant Andreu de Vallgorguina 
METHOD:PUBLISH
X-WR-CALNAME:vallgorguina@vallgorguina.cat
X-WR-TIMEZONE:Europe/Madrid
DESCRIPTION:10.30h. Diumenge de Pasqua

URI:https://www.vallgorguina.cat/actualitat/agenda/diumenge-de-pasqua.html
CLASS:PUBLIC
END:VEVENT
END:VCALENDAR
