BEGIN:VCALENDAR
VERSION:2.0
CALSCALE:GREGORIAN
PRODID:-//Diputació de Barcelona//DibaCMS//EN
BEGIN:VEVENT
UID:10436
DTSTAMP:20260421T032905
DTSTART:20240513T070000
DTEND:20240513T130000
SUMMARY:Recollida fracció vegetal 2n trimestre 2024 
LOCATION:
METHOD:PUBLISH
X-WR-CALNAME:vallgorguina@vallgorguina.cat
X-WR-TIMEZONE:Europe/Madrid
DESCRIPTION:
URI:https://www.vallgorguina.cat/actualitat/agenda/recollida-fraccio-vegetal-2n-trimestre-2024-.html
CLASS:PUBLIC
END:VEVENT
END:VCALENDAR
