BEGIN:VCALENDAR
VERSION:2.0
CALSCALE:GREGORIAN
PRODID:-//Diputació de Barcelona//DibaCMS//EN
BEGIN:VEVENT
UID:10440
DTSTAMP:20260421T070638
DTSTART:20240403T183000
DTEND:20240403T190000
SUMMARY:Junta Govern Local  
LOCATION:
METHOD:PUBLISH
X-WR-CALNAME:vallgorguina@vallgorguina.cat
X-WR-TIMEZONE:Europe/Madrid
DESCRIPTION:
URI:https://www.vallgorguina.cat/actualitat/agenda/10440-junta-govern-local-.html
CLASS:PUBLIC
END:VEVENT
END:VCALENDAR
