BEGIN:VCALENDAR
VERSION:2.0
CALSCALE:GREGORIAN
PRODID:-//Diputació de Barcelona//DibaCMS//EN
BEGIN:VEVENT
UID:10445
DTSTAMP:20260421T052222
DTSTART:20240406T120000
DTEND:20240406T140000
SUMMARY:Taller presencial: És possible viure en una llar organitzada. Posem fil a l’agulla!
LOCATION:
METHOD:PUBLISH
X-WR-CALNAME:vallgorguina@vallgorguina.cat
X-WR-TIMEZONE:Europe/Madrid
DESCRIPTION:
URI:https://www.vallgorguina.cat/actualitat/agenda/taller-presencial-es-possible-viure-en-una-llar-organitzada-posem-fil-a-lagulla.html
CLASS:PUBLIC
END:VEVENT
END:VCALENDAR
