BEGIN:VCALENDAR
VERSION:2.0
CALSCALE:GREGORIAN
PRODID:-//Diputació de Barcelona//DibaCMS//EN
BEGIN:VEVENT
UID:10449
DTSTAMP:20260421T054836
DTSTART:20240423T190000
DTEND:20240423T190000
SUMMARY:Diada de Sant Jordi 2024 - Concurs Microrelats 
LOCATION:
METHOD:PUBLISH
X-WR-CALNAME:vallgorguina@vallgorguina.cat
X-WR-TIMEZONE:Europe/Madrid
DESCRIPTION:
URI:https://www.vallgorguina.cat/actualitat/agenda/diada-de-sant-jordi-2024-concurs-microrelats-.html
CLASS:PUBLIC
END:VEVENT
END:VCALENDAR
