BEGIN:VCALENDAR
VERSION:2.0
CALSCALE:GREGORIAN
PRODID:-//Diputació de Barcelona//DibaCMS//EN
BEGIN:VEVENT
UID:10450
DTSTAMP:20260421T031944
DTSTART:20240427T120000
DTEND:20240427T120000
SUMMARY:Homenatge a Rosa Victòria Gras
LOCATION:
METHOD:PUBLISH
X-WR-CALNAME:vallgorguina@vallgorguina.cat
X-WR-TIMEZONE:Europe/Madrid
DESCRIPTION:
URI:https://www.vallgorguina.cat/actualitat/agenda/homenatge-a-rosa-victoria-gras.html
CLASS:PUBLIC
END:VEVENT
END:VCALENDAR
