BEGIN:VCALENDAR
VERSION:2.0
CALSCALE:GREGORIAN
PRODID:-//Diputació de Barcelona//DibaCMS//EN
BEGIN:VEVENT
UID:10453
DTSTAMP:20260421T013202
DTSTART:20240519T080000
DTEND:20240519T130000
SUMMARY:XII Trobada de vehicles clàssics a Vallgorguina.
LOCATION:
METHOD:PUBLISH
X-WR-CALNAME:vallgorguina@vallgorguina.cat
X-WR-TIMEZONE:Europe/Madrid
DESCRIPTION:
URI:https://www.vallgorguina.cat/actualitat/agenda/xii-trobada-de-vehicles-classics-a-vallgorguina.html
CLASS:PUBLIC
END:VEVENT
END:VCALENDAR
