BEGIN:VCALENDAR
VERSION:2.0
CALSCALE:GREGORIAN
PRODID:-//Diputació de Barcelona//DibaCMS//EN
BEGIN:VEVENT
UID:10459
DTSTAMP:20260421T010323
DTSTART:20240623T053000
DTEND:20240623T053000
SUMMARY:Autocar per anar a buscar la Flama del Canigó
LOCATION:
METHOD:PUBLISH
X-WR-CALNAME:vallgorguina@vallgorguina.cat
X-WR-TIMEZONE:Europe/Madrid
DESCRIPTION:
URI:https://www.vallgorguina.cat/actualitat/agenda/autocar-per-anar-a-buscar-la-flama-del-canigo.html
CLASS:PUBLIC
END:VEVENT
END:VCALENDAR
