BEGIN:VCALENDAR
VERSION:2.0
CALSCALE:GREGORIAN
PRODID:-//Diputació de Barcelona//DibaCMS//EN
BEGIN:VEVENT
UID:10461
DTSTAMP:20260421T011127
DTSTART:20240623T213000
DTEND:20240623T213000
SUMMARY:Revetlla popular a la plaça de la Vila
LOCATION:
METHOD:PUBLISH
X-WR-CALNAME:vallgorguina@vallgorguina.cat
X-WR-TIMEZONE:Europe/Madrid
DESCRIPTION:
URI:https://www.vallgorguina.cat/actualitat/agenda/revetlla-popular-a-la-placa-de-la-vila.html
CLASS:PUBLIC
END:VEVENT
END:VCALENDAR
