BEGIN:VCALENDAR
VERSION:2.0
CALSCALE:GREGORIAN
PRODID:-//Diputació de Barcelona//DibaCMS//EN
BEGIN:VEVENT
UID:10462
DTSTAMP:20260420T232653
DTSTART:20240622T100000
DTEND:20240630T140000
SUMMARY:Exposició de “Primera República: 150 anys després"
LOCATION:
METHOD:PUBLISH
X-WR-CALNAME:vallgorguina@vallgorguina.cat
X-WR-TIMEZONE:Europe/Madrid
DESCRIPTION:
URI:https://www.vallgorguina.cat/actualitat/agenda/exposicio-de-primera-republica-150-anys-despres.html
CLASS:PUBLIC
END:VEVENT
END:VCALENDAR
