BEGIN:VCALENDAR
VERSION:2.0
CALSCALE:GREGORIAN
PRODID:-//Diputació de Barcelona//DibaCMS//EN
BEGIN:VEVENT
UID:10480
DTSTAMP:20260421T011936
DTSTART:20240609T090000
DTEND:20240609T200000
SUMMARY:Eleccions Parlament Europeu
LOCATION:
METHOD:PUBLISH
X-WR-CALNAME:vallgorguina@vallgorguina.cat
X-WR-TIMEZONE:Europe/Madrid
DESCRIPTION:
URI:https://www.vallgorguina.cat/actualitat/agenda/eleccions-parlament-europeu.html
CLASS:PUBLIC
END:VEVENT
END:VCALENDAR
