BEGIN:VCALENDAR
VERSION:2.0
CALSCALE:GREGORIAN
PRODID:-//Diputació de Barcelona//DibaCMS//EN
BEGIN:VEVENT
UID:10484
DTSTAMP:20260420T232721
DTSTART:20240618T070000
DTEND:20240618T130000
SUMMARY:Recollida voluminosos maig i juny 2024 
LOCATION:
METHOD:PUBLISH
X-WR-CALNAME:vallgorguina@vallgorguina.cat
X-WR-TIMEZONE:Europe/Madrid
DESCRIPTION:
URI:https://www.vallgorguina.cat/actualitat/agenda/recollida-voluminosos-maig-i-juny-2024-.html
CLASS:PUBLIC
END:VEVENT
END:VCALENDAR
