BEGIN:VCALENDAR
VERSION:2.0
CALSCALE:GREGORIAN
PRODID:-//Diputació de Barcelona//DibaCMS//EN
BEGIN:VEVENT
UID:10491
DTSTAMP:20260421T072615
DTSTART:20240509T110000
DTEND:20240509T110000
SUMMARY:Xerrada Informativa dels Mossos d'Esquadra
LOCATION:Carrer de l'Ésglésia, 13 (darrere del Casal del poble) 08471 Vallgorguina
METHOD:PUBLISH
X-WR-CALNAME:vallgorguina@vallgorguina.cat
X-WR-TIMEZONE:Europe/Madrid
DESCRIPTION:
URI:https://www.vallgorguina.cat/actualitat/agenda/xerrada-informativa-dels-mossos-desquadra.html
CLASS:PUBLIC
END:VEVENT
END:VCALENDAR
